BEGIN:VCALENDAR
VERSION:2.0
PRODID:-//chikkutakku.com//RDFCal 1.0//EN
X-WR-CALDESC:GoogleカレンダーやiCalendar形式情報を共有シェ
 アしましょう。近所のイベントから全国のイベントま
 で今日のイベント検索やスケジュールを決めるならち
 っくたっく
X-WR-CALNAME:ちっくたっく
X-WR-TIMEZONE:UTC
BEGIN:VEVENT
SUMMARY:吉田隆一 : bariton sax\, etc. + 遠藤ふみ : piano
DTSTART;VALUE=DATE-TIME:20260422T103000Z
DTEND;VALUE=DATE-TIME:20260422T130000Z
UID:189643165386
DESCRIPTION:19:00　OPEN\n19:30　START\n2ステージ（入替なし）\n
 3300円 + 2drinks order
LOCATION:
END:VEVENT
END:VCALENDAR
