BEGIN:VCALENDAR
VERSION:2.0
PRODID:-//chikkutakku.com//RDFCal 1.0//EN
X-WR-CALDESC:GoogleカレンダーやiCalendar形式情報を共有シェ
 アしましょう。近所のイベントから全国のイベントま
 で今日のイベント検索やスケジュールを決めるならち
 っくたっく
X-WR-CALNAME:ちっくたっく
X-WR-TIMEZONE:UTC
BEGIN:VEVENT
SUMMARY:【注】本好きの下剋上 #1 本のない世界 / #2 生活
 改善と石板 / #3 冬のできごと / #4 初めての森と粘土板 /
  #5 洗礼式と不思議な熱 / #6 会合 / #7 不信感の芽生え / #
 8 ルッツのマイン / #9 ギルド長の孫娘 / #10 二度目の冬
 に向けて / #11 究極の選択と家族会議 / #12 洗礼式と神の
 楽園
DTSTART;VALUE=DATE-TIME:20260425T230000Z
DTEND;VALUE=DATE-TIME:20260426T050000Z
UID:190435484275
DESCRIPTION: / #1 本のない世界 / #2 生活改善と石板 / #3 冬
 のできごと / #4 初めての森と粘土板 / #5 洗礼式と不思
 議な熱 / #6 会合 / #7 不信感の芽生え / #8 ルッツのマイ
 ン / #9 ギルド長の孫娘 / #10 二度目の冬に向けて / #11 究
 極の選択と家族会議 / #12 洗礼式と神の楽園 / ([[異世界
 ・ファンタジー3 https://abema.tv/timetable/channels/isekai-anime-3]
 ]) https://abema.tv/channels/isekai-anime-3/slots/Ah77qM4B9KpovF リピー
 ト放送は 20:00～ https://abema.tv/channels/isekai-anime-3/slots/Ah77n
 KFEW6ZTfD (無料TS1週間)
LOCATION:ABEMA特設その他
END:VEVENT
END:VCALENDAR
