BEGIN:VCALENDAR
VERSION:2.0
PRODID:-//chikkutakku.com//RDFCal 1.0//EN
X-WR-CALDESC:GoogleカレンダーやiCalendar形式情報を共有シェ
 アしましょう。近所のイベントから全国のイベントま
 で今日のイベント検索やスケジュールを決めるならち
 っくたっく
X-WR-CALNAME:ちっくたっく
X-WR-TIMEZONE:UTC
BEGIN:VEVENT
SUMMARY:【Android 対応】甘味処九尾
DTSTART;VALUE=DATE-TIME:20260423T160000Z
DTEND;VALUE=DATE-TIME:20260423T170000Z
UID:190855412546
DESCRIPTION:【イベント主催者】\n　おうどんパスタ\n【イ
 ベント内容】\n　眠れない夜、誰かと話したい夜に空い
 ているかもしれない小さな甘味処です\n誰かと話すもよ
 し、一人で静かにするのもよし、イベントの妨げにな
 らない範囲内でお客様の自由にお過ごしください\n困り
 ごとがありましたら店長までお願いします\n【イベント
 ジャンル】\n　店舗系イベント\n【参加条件（モデル、
 人数制限など）】\n　20人インスタンスとなっておりま
 す。できるだけ軽いアバターでお越しください\n【参加
 方法】\n　グループ（KYUBI.6539）に加入の上、時間にな
 りましたら開かれるグループインスタンスにjoinしてく
 ださい\n【備考】\n　店長がたまに寝落ちしてインスタ
 ンスを開かないことがあります。その時は申し訳ござ
 いません
LOCATION:
END:VEVENT
END:VCALENDAR
