BEGIN:VCALENDAR
VERSION:2.0
PRODID:-//chikkutakku.com//RDFCal 1.0//EN
X-WR-CALDESC:GoogleカレンダーやiCalendar形式情報を共有シェ
 アしましょう。近所のイベントから全国のイベントま
 で今日のイベント検索やスケジュールを決めるならち
 っくたっく
X-WR-CALNAME:ちっくたっく
X-WR-TIMEZONE:UTC
BEGIN:VEVENT
SUMMARY:東京オトナSHOW《歌謡曲カバーバンド祭り》
DTSTART;VALUE=DATE:20260424
DTEND;VALUE=DATE:20260425
UID:191060848413
DESCRIPTION:【オープン】18:00\n【スタート】18:30\n【チャー
 ジ】2500円＋オーダー\n\n【出演】\n回文　18:30〜18:40\nhote
 lSaturday 18:50〜19:20\nイメルダ＆カプリシャス　19:35〜20:05
 \n回文　20:10〜20:20\ntippi&Luz 20:30〜21:00\nハグレグミ　21:15
 〜21:45\n\n《回文》佐藤祐\n\n【DJ】ジェームス\n\n21:50よ
 りBarTime
LOCATION:
END:VEVENT
END:VCALENDAR
