BEGIN:VCALENDAR
VERSION:2.0
PRODID:-//chikkutakku.com//RDFCal 1.0//EN
X-WR-CALDESC:GoogleカレンダーやiCalendar形式情報を共有シェ
 アしましょう。近所のイベントから全国のイベントま
 で今日のイベント検索やスケジュールを決めるならち
 っくたっく
X-WR-CALNAME:ちっくたっく
X-WR-TIMEZONE:UTC
BEGIN:VEVENT
SUMMARY:魅惑の社長に誘淫されて陥落させられました
DTSTART;VALUE=DATE:20260510
DTEND;VALUE=DATE:20260511
UID:192101970888
DESCRIPTION:2026-05-11魅惑の社長に誘淫されて陥落させられ
 ました有允ひろみアルファポリス
LOCATION:
END:VEVENT
END:VCALENDAR
