BEGIN:VCALENDAR
VERSION:2.0
PRODID:-//chikkutakku.com//RDFCal 1.0//EN
X-WR-CALDESC:GoogleカレンダーやiCalendar形式情報を共有シェ
 アしましょう。近所のイベントから全国のイベントま
 で今日のイベント検索やスケジュールを決めるならち
 っくたっく
X-WR-CALNAME:ちっくたっく
X-WR-TIMEZONE:UTC
BEGIN:VEVENT
SUMMARY:ประชุมเตรียมความพร้อมจ
 ัดสอบ ก.พ. รอบ 6-10
DTSTART;VALUE=DATE-TIME:20260423T073000Z
DTEND;VALUE=DATE-TIME:20260423T093000Z
UID:192601637956
DESCRIPTION:通过 Google Meet 加入：https://meet.google.com/xrm-jqzp-s
 iq\n或者拨打以下号码：(TH) +66 2 844 9331 PIN 码： 392464693042
 5#\n更多电话号码: https://tel.meet/xrm-jqzp-siq?pin=3924646930425&hs
 =7\n\n如需详细了解 Google Meet，请访问：https://support.google.
 com/a/users/answer/9282720
LOCATION:B315
END:VEVENT
END:VCALENDAR
