BEGIN:VCALENDAR
VERSION:2.0
PRODID:-//chikkutakku.com//RDFCal 1.0//EN
X-WR-CALDESC:GoogleカレンダーやiCalendar形式情報を共有シェ
 アしましょう。近所のイベントから全国のイベントま
 で今日のイベント検索やスケジュールを決めるならち
 っくたっく
X-WR-CALNAME:ちっくたっく
X-WR-TIMEZONE:UTC
BEGIN:VEVENT
SUMMARY:【富山】SYAAMiNE、MEILI CHARM＠Hinata misaki Birthday live 2
 026
DTSTART;VALUE=DATE-TIME:20260504T012500Z
DTEND;VALUE=DATE-TIME:20260504T072500Z
UID:192835209354
DESCRIPTION:Hinata misaki Birthday live 20265/4 （祝）富山MAIRO開場
 10:00/開演10:25チケットSチケット　10000円（4/20迄）Aチケ
 ット　5000円一般　　　　3000円※各チケットD別600円※
 当日入場＋500円4/13(月)21時〜https://tiget.net/events/481759【
 出演者】君色+シンクロニシティmてゃんオモテカホ桐亜
 紅波小鳥遊めるSYAAMiNEthe cellsじゆりぴZooZooZoo空野青空Fly
 ellめるちいメリーミューズMEILI CHARMまりえ（44)やれでき
 !!
LOCATION:MAIRO\, 日本、〒930-0003 富山県富山市桜町２丁目１
 −１ アミューズビル 2F
END:VEVENT
END:VCALENDAR
