BEGIN:VCALENDAR
VERSION:2.0
PRODID:-//chikkutakku.com//RDFCal 1.0//EN
X-WR-CALDESC:GoogleカレンダーやiCalendar形式情報を共有シェ
 アしましょう。近所のイベントから全国のイベントま
 で今日のイベント検索やスケジュールを決めるならち
 っくたっく
X-WR-CALNAME:ちっくたっく
X-WR-TIMEZONE:UTC
BEGIN:VEVENT
SUMMARY:【プラモ系イベント】模型&バー ハンドピース
DTSTART;VALUE=DATE-TIME:20260424T130000Z
DTEND;VALUE=DATE-TIME:20260424T140000Z
UID:193109649221
DESCRIPTION:【イベント主催者】\n　なまとら\n【イベント
 内容】\n　ハンドピースは隔週金曜開催のVRCでプラモ好
 きな人が集まるバーイベントです！\nパチ組からジオラ
 マ作成の本格派モデラーまで！\nジャンルはガンプラ、
 美少女、AFV、カーモデルとオールジャンルのお話をお
 楽しみください。\n【イベントジャンル】\n　その他交
 流会\, 店舗系イベント\, 定期イベント\n【参加条件（モ
 デル、人数制限など）】\n　プラモデルに興味のある方
 、プラモデルが好きな方、プラモデルの話がしたい方\n
 【参加方法】\n　『Group＋』で開催しますのでTwitterより
 Groupにご参加ください。もしくは『なまとら』へフレン
 ド申請の後、時間になったらJOIN！\n【備考】\n　https://x
 .com/HandPieceVRC/status/2046946658848841751?s=20
LOCATION:
END:VEVENT
END:VCALENDAR
