BEGIN:VCALENDAR
VERSION:2.0
PRODID:-//chikkutakku.com//RDFCal 1.0//EN
X-WR-CALDESC:GoogleカレンダーやiCalendar形式情報を共有シェ
 アしましょう。近所のイベントから全国のイベントま
 で今日のイベント検索やスケジュールを決めるならち
 っくたっく
X-WR-CALNAME:ちっくたっく
X-WR-TIMEZONE:UTC
BEGIN:VEVENT
SUMMARY:【注】異世界魔王と召喚少女の奴隷魔術Ω #1 大主
 神官 / #2 聖騎士長 / #3 背徳儀式 / #4 固有領域 / #5 黒竜
 激突 / #6 魔王軍戦 / #7 魔王幼女 / #8 王都来訪 / #9 教会
 雷撃 / #10 神様演技
DTSTART;VALUE=DATE-TIME:20260423T043000Z
DTEND;VALUE=DATE-TIME:20260423T093000Z
UID:193294622209
DESCRIPTION: / #1 大主神官 / #2 聖騎士長 / #3 背徳儀式 / #4 
 固有領域 / #5 黒竜激突 / #6 魔王軍戦 / #7 魔王幼女 / #8 
 王都来訪 / #9 教会雷撃 / #10 神様演技 / ([[異世界・ファ
 ンタジー2 https://abema.tv/timetable/channels/isekai-anime-2]]) https:
 //abema.tv/channels/isekai-anime-2/slots/Ah77ndmC3fRrJb リピート放送
 は 24:30～ https://abema.tv/channels/isekai-anime-2/slots/AkN7aLkivfc49D
  (無料TS1週間)
LOCATION:ABEMA特設その他
END:VEVENT
END:VCALENDAR
