BEGIN:VCALENDAR
VERSION:2.0
PRODID:-//chikkutakku.com//RDFCal 1.0//EN
X-WR-CALDESC:GoogleカレンダーやiCalendar形式情報を共有シェ
 アしましょう。近所のイベントから全国のイベントま
 で今日のイベント検索やスケジュールを決めるならち
 っくたっく
X-WR-CALNAME:ちっくたっく
X-WR-TIMEZONE:UTC
BEGIN:VEVENT
SUMMARY:【楽天ブックス限定特典】花束を君に贈ろうーKin
 senka-通常版(アクリルキーホルダー)
DTSTART;VALUE=DATE:20260429
DTEND;VALUE=DATE:20260430
UID:194191637899
DESCRIPTION:2026-04-30【楽天ブックス限定特典】花束を君に
 贈ろうーKinsenka-通常版(アクリルキーホルダー)ブシロー
 ド
LOCATION:
END:VEVENT
END:VCALENDAR
