BEGIN:VCALENDAR
VERSION:2.0
PRODID:-//chikkutakku.com//RDFCal 1.0//EN
X-WR-CALDESC:GoogleカレンダーやiCalendar形式情報を共有シェ
 アしましょう。近所のイベントから全国のイベントま
 で今日のイベント検索やスケジュールを決めるならち
 っくたっく
X-WR-CALNAME:ちっくたっく
X-WR-TIMEZONE:UTC
BEGIN:VEVENT
SUMMARY:最新版 申請するだけでお金がもらえる！ 給付金
 ・助成金ハンドブック
DTSTART;VALUE=DATE:20260506
DTEND;VALUE=DATE:20260507
UID:194878672841
DESCRIPTION:2026-05-07最新版 申請するだけでお金がもらえる
 ！ 給付金・助成金ハンドブック大村大次郎ビジネス社
LOCATION:
END:VEVENT
END:VCALENDAR
