BEGIN:VCALENDAR
VERSION:2.0
PRODID:-//chikkutakku.com//RDFCal 1.0//EN
X-WR-CALDESC:GoogleカレンダーやiCalendar形式情報を共有シェ
 アしましょう。近所のイベントから全国のイベントま
 で今日のイベント検索やスケジュールを決めるならち
 っくたっく
X-WR-CALNAME:ちっくたっく
X-WR-TIMEZONE:UTC
BEGIN:VEVENT
SUMMARY:【Android 対応】【VR Air Force】VRAF飛行機教習所
DTSTART;VALUE=DATE-TIME:20260423T120000Z
DTEND;VALUE=DATE-TIME:20260423T140000Z
UID:195144352983
DESCRIPTION:【イベント主催者】\n　V.R.A.F\n【イベント内容
 】\n　V.R.A.Fによる飛行機教習所。Sacc's Flightを利用した
 飛行機及びヘリコプターの操作を教えます。Quest参加可
 能。\n\n【イベントジャンル】\n　その他交流会\, 初心
 者向けイベント\, 定期イベント\n【参加条件（モデル、
 人数制限など）】\n　Sacc's Flightを利用した飛行機、ヘ
 リコプターを操縦して空を飛んでみたい方、飛行機に
 興味がある方などなど、お待ちしております。\n\n【参
 加方法】\n　kuroame1450、EJ桜川艦長、キンちゃん、オー
 シャン2へフレンドを送ってJoinしてください\n\n【備考
 】\n　詳しくはこちらへ→　https://twitter.com/VR_Air_Force\n
LOCATION:
END:VEVENT
END:VCALENDAR
