BEGIN:VCALENDAR
VERSION:2.0
PRODID:-//chikkutakku.com//RDFCal 1.0//EN
X-WR-CALDESC:GoogleカレンダーやiCalendar形式情報を共有シェ
 アしましょう。近所のイベントから全国のイベントま
 で今日のイベント検索やスケジュールを決めるならち
 っくたっく
X-WR-CALNAME:ちっくたっく
X-WR-TIMEZONE:UTC
BEGIN:VEVENT
SUMMARY:Monologue
DTSTART;VALUE=DATE:20260508
DTEND;VALUE=DATE:20260509
UID:195417142932
DESCRIPTION:Monologue \n\nMitsunari Shibutani (vo) \nK'suke (key\,gt)\nop
 en18:30 start19:30\nMC3\,850円(税込) 2オーダー制
LOCATION:
END:VEVENT
END:VCALENDAR
