BEGIN:VCALENDAR
VERSION:2.0
PRODID:-//chikkutakku.com//RDFCal 1.0//EN
X-WR-CALDESC:GoogleカレンダーやiCalendar形式情報を共有シェ
 アしましょう。近所のイベントから全国のイベントま
 で今日のイベント検索やスケジュールを決めるならち
 っくたっく
X-WR-CALNAME:ちっくたっく
X-WR-TIMEZONE:UTC
BEGIN:VEVENT
SUMMARY:R213-學士論文口試 (農化/王尚禮)
DTSTART;VALUE=DATE-TIME:20260421T003000Z
DTEND;VALUE=DATE-TIME:20260421T050000Z
UID:195713859828
DESCRIPTION:R213-學士論文口試 (農化/王尚禮)
LOCATION:
END:VEVENT
END:VCALENDAR
