BEGIN:VCALENDAR
VERSION:2.0
PRODID:-//chikkutakku.com//RDFCal 1.0//EN
X-WR-CALDESC:GoogleカレンダーやiCalendar形式情報を共有シェ
 アしましょう。近所のイベントから全国のイベントま
 で今日のイベント検索やスケジュールを決めるならち
 っくたっく
X-WR-CALNAME:ちっくたっく
X-WR-TIMEZONE:UTC
BEGIN:VEVENT
SUMMARY:【楽天ブックス限定先着特典+早期予約特典】lovel
 y moments (CD+Blu-ray)(アクリルキーホルダー+セルフライナ
 ーノーツ付きオリジナルZINE)
DTSTART;VALUE=DATE:20260519
DTEND;VALUE=DATE:20260520
UID:195928312638
DESCRIPTION:2026-05-20【楽天ブックス限定先着特典+早期予約
 特典】lovely moments (CD+Blu-ray)(アクリルキーホルダー+セル
 フライナーノーツ付きオリジナルZINE)a子(株)ポニーキャ
 ニオン
LOCATION:
END:VEVENT
END:VCALENDAR
