BEGIN:VCALENDAR
VERSION:2.0
PRODID:-//chikkutakku.com//RDFCal 1.0//EN
X-WR-CALDESC:GoogleカレンダーやiCalendar形式情報を共有シェ
 アしましょう。近所のイベントから全国のイベントま
 で今日のイベント検索やスケジュールを決めるならち
 っくたっく
X-WR-CALNAME:ちっくたっく
X-WR-TIMEZONE:UTC
BEGIN:VEVENT
SUMMARY:達人はここを見る いちばんわかる日本美術鑑賞
DTSTART;VALUE=DATE:20260508
DTEND;VALUE=DATE:20260509
UID:196019193502
DESCRIPTION:2026-05-09達人はここを見る いちばんわかる日本
 美術鑑賞青い日記帳筑摩書房
LOCATION:
END:VEVENT
END:VCALENDAR
