BEGIN:VCALENDAR
VERSION:2.0
PRODID:-//chikkutakku.com//RDFCal 1.0//EN
X-WR-CALDESC:GoogleカレンダーやiCalendar形式情報を共有シェ
 アしましょう。近所のイベントから全国のイベントま
 で今日のイベント検索やスケジュールを決めるならち
 っくたっく
X-WR-CALNAME:ちっくたっく
X-WR-TIMEZONE:UTC
BEGIN:VEVENT
SUMMARY:【注】ようこそ実力至上主義の教室へ(4) #1 ホワ
 イトルームからの刺客 / #2 契約と代償 / #3 リーダーた
 る覚悟 / #4 刃の向く先 / #5 2000万の男 / #6 波乱の争奪戦
DTSTART;VALUE=DATE-TIME:20260422T090000Z
DTEND;VALUE=DATE-TIME:20260422T120000Z
UID:196181854783
DESCRIPTION: / #1 ホワイトルームからの刺客 / #2 契約と代
 償 / #3 リーダーたる覚悟 / #4 刃の向く先 / #5 2000万の男 
 / #6 波乱の争奪戦 / https://abema.tv/channels/abema-anime/slots/Ah77
 koUwFCUyVZ ※無料TS、リピート放送なし
LOCATION:Abemaアニメ
END:VEVENT
END:VCALENDAR
