BEGIN:VCALENDAR
VERSION:2.0
PRODID:-//chikkutakku.com//RDFCal 1.0//EN
X-WR-CALDESC:GoogleカレンダーやiCalendar形式情報を共有シェ
 アしましょう。近所のイベントから全国のイベントま
 で今日のイベント検索やスケジュールを決めるならち
 っくたっく
X-WR-CALNAME:ちっくたっく
X-WR-TIMEZONE:UTC
BEGIN:VEVENT
SUMMARY:namekujiアバターカフェ
DTSTART;VALUE=DATE-TIME:20260422T130000Z
DTEND;VALUE=DATE-TIME:20260422T140000Z
UID:196859800924
DESCRIPTION:【イベント主催者】\n　葉薊かんな\n【イベン
 ト内容】\n　namekujiアバター(namekuji1337さんが制作したア
 バター)の良さを知ってもらいたい！\nキャスト・スタ
 ッフ全員がnamekujiアバターのカフェです。\n個性豊かな
 キャストと楽しくお喋りしませんか？\n【イベントジャ
 ンル】\n　店舗系イベント\n【参加条件（モデル、人数
 制限など）】\n　注意事項、禁止事項をお読みの上、50M
 B以下の軽いアバターでお越しください。\n【参加方法
 】\n　group+で開催されているインスタンスに参加\ngroup
 （NMCAFE.0242）\n【備考】\n　【禁止事項】\n・無断での配
 信、録音、撮影\n・NSFWに当たるアバター\n・２ｍ以上の
 アバター\n・視界ジャック、ギミック、過度なパーティ
 クル\n・キャストへの過度な接触、フレンド申請\n・版
 権または違法アバター\n\n【注意事項】\nPC限定です。\n5
 0MB以下の軽いアバターでご来店ください。\nカリングや
 イヤーマフの設定をお願いします。
LOCATION:
END:VEVENT
END:VCALENDAR
