BEGIN:VCALENDAR
VERSION:2.0
PRODID:-//chikkutakku.com//RDFCal 1.0//EN
X-WR-CALDESC:GoogleカレンダーやiCalendar形式情報を共有シェ
 アしましょう。近所のイベントから全国のイベントま
 で今日のイベント検索やスケジュールを決めるならち
 っくたっく
X-WR-CALNAME:ちっくたっく
X-WR-TIMEZONE:UTC
BEGIN:VEVENT
SUMMARY:【Android 対応】皇ボドゲ会
DTSTART;VALUE=DATE-TIME:20260421T130000Z
DTEND;VALUE=DATE-TIME:20260421T140000Z
UID:197611150285
DESCRIPTION:【イベント主催者】\n　皇＿詩織\n【イベント
 内容】\n　VRボードゲームで遊びます。\n初めてプレイ
 する方にはルール説明から行います。\n今回はHell O' Work
  -ヘル・オー・ワーク-（人が集まらなければVRギブトレ
  - GiveMeTreasure）\n【イベントジャンル】\n　その他交流
 会\, 定期イベント\n【参加条件（モデル、人数制限など
 ）】\n　定員１５人（主催含む）\n【参加方法】\n　皇
 ＿詩織にフレンドリクエスト（Add Friend）して参加（join
 ）\nhttps://vrchat.com/home/user/usr_db4cb605-4b3e-4f6a-a6b2-60eb59fc7f20
 \n【備考】\n　主催X）https://x.com/sumeragi_shiori
LOCATION:
END:VEVENT
END:VCALENDAR
