BEGIN:VCALENDAR
VERSION:2.0
PRODID:-//chikkutakku.com//RDFCal 1.0//EN
X-WR-CALDESC:GoogleカレンダーやiCalendar形式情報を共有シェ
 アしましょう。近所のイベントから全国のイベントま
 で今日のイベント検索やスケジュールを決めるならち
 っくたっく
X-WR-CALNAME:ちっくたっく
X-WR-TIMEZONE:UTC
BEGIN:VEVENT
SUMMARY:【楽天ブックス限定全巻購入特典】矢野くんの普
 通の日々 3【Blu-ray】(キャラファインボード2個セット+
 アクリルキーホルダー6個セット)
DTSTART;VALUE=DATE:20260512
DTEND;VALUE=DATE:20260513
UID:198435797612
DESCRIPTION:2026-05-13【楽天ブックス限定全巻購入特典】矢
 野くんの普通の日々 3【Blu-ray】(キャラファインボード2
 個セット+アクリルキーホルダー6個セット)田村結衣/天
 崎滉平/貫井柚佳/種崎敦美/坂泰斗/高橋李依/海谷敏久/
 木村秀彬(株)ハピネット・メディアマーケティング
LOCATION:
END:VEVENT
END:VCALENDAR
