BEGIN:VCALENDAR
VERSION:2.0
PRODID:-//chikkutakku.com//RDFCal 1.0//EN
X-WR-CALDESC:GoogleカレンダーやiCalendar形式情報を共有シェ
 アしましょう。近所のイベントから全国のイベントま
 で今日のイベント検索やスケジュールを決めるならち
 っくたっく
X-WR-CALNAME:ちっくたっく
X-WR-TIMEZONE:UTC
BEGIN:VEVENT
SUMMARY:(พจ./ทีม 1) ร่วมพิธีสวดพระ
 พุทธมนต์และเจริญจิตตภาวน
 าอุทิศถวายพระราชกุศล แด่ส
 มเด็จพระนางเจ้าสิริกิติ์ 
 พระบรมราชินีนาถ พระบรมราช
 ชนนีพันปีหลวง ณ  วัดศรีห้ว
 ยทับทัน ตำบลห้วยทับทัน อำเ
 ภอห้วยทับทัน  การแต่งกาย ช
 ุดสุภาพโทนสีขาว ไว้ทุกข์ 
DTSTART;VALUE=DATE-TIME:20260424T070000Z
DTEND;VALUE=DATE-TIME:20260424T080000Z
UID:199316361463
DESCRIPTION:(พจ./ทีม 1) ร่วมพิธีสวดพร
 ะพุทธมนต์และเจริญจิตตภาว
 นาอุทิศถวายพระราชกุศล แด่
 สมเด็จพระนางเจ้าสิริกิติ
 ์ พระบรมราชินีนาถ พระบรมรา
 ชชนนีพันปีหลวง ณ  วัดศรีห้
 วยทับทัน ตำบลห้วยทับทัน อำ
 เภอห้วยทับทัน  การแต่งกาย 
 ชุดสุภาพโทนสีขาว ไว้ทุกข์ 
LOCATION:
END:VEVENT
END:VCALENDAR
