BEGIN:VCALENDAR
VERSION:2.0
PRODID:-//chikkutakku.com//RDFCal 1.0//EN
X-WR-CALDESC:GoogleカレンダーやiCalendar形式情報を共有シェ
 アしましょう。近所のイベントから全国のイベントま
 で今日のイベント検索やスケジュールを決めるならち
 っくたっく
X-WR-CALNAME:ちっくたっく
X-WR-TIMEZONE:UTC
BEGIN:VEVENT
SUMMARY:【注】犬夜叉 #9 七宝登場！雷獣兄弟 飛天満天!! /
  #10 妖刀激突！雷撃刃VS鉄砕牙!! / #11 現代によみがえる
 呪いの能面 / #12 タタリモッケと小さな悪霊 / #13 新月の
 謎 黒髪の犬夜叉 / #14 盗まれた桔梗の霊骨 / #15 悲運の
 巫女 桔梗復活 / #16 右手に風穴 不良法師 弥勒
DTSTART;VALUE=DATE-TIME:20260425T230000Z
DTEND;VALUE=DATE-TIME:20260426T030000Z
UID:199835534268
DESCRIPTION: / #9 七宝登場！雷獣兄弟 飛天満天!! / #10 妖刀
 激突！雷撃刃VS鉄砕牙!! / #11 現代によみがえる呪いの能
 面 / #12 タタリモッケと小さな悪霊 / #13 新月の謎 黒髪
 の犬夜叉 / #14 盗まれた桔梗の霊骨 / #15 悲運の巫女 桔
 梗復活 / #16 右手に風穴 不良法師 弥勒 / ([[ファミリー
 アニメ2 https://abema.tv/timetable/channels/family-anime-2]]) https://a
 bema.tv/channels/family-anime-2/slots/Ah77n1mD2qba7H リピート放送は
  16:00～ https://abema.tv/channels/family-anime-2/slots/EvABN8ZfjbPhvF (
 無料TS1週間)
LOCATION:ABEMA特設その他
END:VEVENT
END:VCALENDAR
