BEGIN:VCALENDAR
VERSION:2.0
PRODID:-//chikkutakku.com//RDFCal 1.0//EN
X-WR-CALDESC:GoogleカレンダーやiCalendar形式情報を共有シェ
 アしましょう。近所のイベントから全国のイベントま
 で今日のイベント検索やスケジュールを決めるならち
 っくたっく
X-WR-CALNAME:ちっくたっく
X-WR-TIMEZONE:UTC
BEGIN:VEVENT
SUMMARY:【Android 対応】ゆきしろズ野球試合公式戦
DTSTART;VALUE=DATE-TIME:20260421T130000Z
DTEND;VALUE=DATE-TIME:20260421T145900Z
UID:200200612955
DESCRIPTION:【イベント主催者】\n　雪川かな\n【イベント
 内容】\n　リアル野球盤が出来るワールドで試合をする
 イベントです！\n\n[試合について]\n「野球盤」のワール
 ドを使って野球の試合をします！\n試合時間は22時10分
 ぐらいから開始で5回終了までてす！\n野球盤は実際の
 野球と違って守備はピッチャーだけ！打って投げるだ
 けです！\n誰でも、楽しく野球で遊べます！\n\n初心者
 大歓迎です！\n野球未経験の方も大歓迎です！\nご自由
 にお越しください！\n【イベントジャンル】\n　定期イ
 ベント\n【参加条件（モデル、人数制限など）】\n　荒
 らしアバター等の利用は禁止となっております。\n権利
 的に怪しくなっていますアバターも利用を控えてくだ
 さい！\n【参加方法】\n　イベント当日はgroup+でイベン
 ト会場を開きます。\nVRChatのグループの方で「ゆきしろ
 ズ」または、「YUKI.1213」と調べてください！\n時間にな
 りましたらワールドにjoin！\n(その他にも主催者の雪川
 かなにフレンドを送って頂いてワールドに入ってもら
 っても大丈夫です！)\n【備考】\n　イベント中は、試合
 の結果を残すために動画を毎回撮影しております。\n試
 合中の映像がSNS等にアップさせていただく事がありま
 すご了承ください。
LOCATION:
END:VEVENT
END:VCALENDAR
