BEGIN:VCALENDAR
VERSION:2.0
PRODID:-//chikkutakku.com//RDFCal 1.0//EN
X-WR-CALDESC:GoogleカレンダーやiCalendar形式情報を共有シェ
 アしましょう。近所のイベントから全国のイベントま
 で今日のイベント検索やスケジュールを決めるならち
 っくたっく
X-WR-CALNAME:ちっくたっく
X-WR-TIMEZONE:UTC
BEGIN:VEVENT
SUMMARY:นพ.สสจ.เป็นประธานเปิดกา
 รอบรมพัฒนาศักยภาพบุคลากร
 ด้านการให้คำปรึกษาสุขภาพ
 จิตและการเฝ้าระวังการฆ่า
 ตัวตาย(ครู ก.)จังหวัดเพชรบู
 รณ์
DTSTART;VALUE=DATE-TIME:20260421T020000Z
DTEND;VALUE=DATE-TIME:20260421T050000Z
UID:200333843645
DESCRIPTION:นพ.สสจ.เป็นประธานเปิดก
 ารอบรมพัฒนาศักยภาพบุคลาก
 รด้านการให้คำปรึกษาสุขภา
 พจิตและการเฝ้าระวังการฆ่
 าตัวตาย(ครู ก.)จังหวัดเพชรบ
 ูรณ์
LOCATION:ห้องพ่อขุนผาเมือง ชั้น6
  อาคารเพชบุระ สสจ.เพชรบูรณ
 ์\nถนนนิกรบำรุง\nจ.เพชรบูรณ์
 \nเพชรบูรณ์ 67000\nประเทศไทย
END:VEVENT
END:VCALENDAR
