BEGIN:VCALENDAR
VERSION:2.0
PRODID:-//chikkutakku.com//RDFCal 1.0//EN
X-WR-CALDESC:GoogleカレンダーやiCalendar形式情報を共有シェ
 アしましょう。近所のイベントから全国のイベントま
 で今日のイベント検索やスケジュールを決めるならち
 っくたっく
X-WR-CALNAME:ちっくたっく
X-WR-TIMEZONE:UTC
BEGIN:VEVENT
SUMMARY:Cancelled --WUI Crew member-WUI-M Loon River First Nation
DTSTART;VALUE=DATE:20260425
DTEND;VALUE=DATE:20260427
UID:200335101258
DESCRIPTION:CANCELLED DUE TO WEATHER WUI crew member Location:Loon River 
 First NationFirehall  9:00am-5:00Pm Contact:  Joshua Peer  wui.lead@kt
 cadmin.ca 780-649-6442 WUI crew member - WUI-M Prerequisites (must be com
 pleted prior to taking courses) •        Fire Smart 101•   
      NFPA 1001 Level I\, (see 3.13)•        S-131 units 3\,
  4\, 9\, 10\, 12\, 13•        Understanding Fire Weather Index S
 ystem•        ICS Canada I-100•        Experience with
  small engines (chainsaws andportable pumps)
LOCATION:Loon River Fire Hall 
END:VEVENT
END:VCALENDAR
