BEGIN:VCALENDAR
VERSION:2.0
PRODID:-//chikkutakku.com//RDFCal 1.0//EN
X-WR-CALDESC:GoogleカレンダーやiCalendar形式情報を共有シェ
 アしましょう。近所のイベントから全国のイベントま
 で今日のイベント検索やスケジュールを決めるならち
 っくたっく
X-WR-CALNAME:ちっくたっく
X-WR-TIMEZONE:UTC
BEGIN:VEVENT
SUMMARY:TOKURON「臨床研究セミナー」
DTSTART;VALUE=DATE-TIME:20260423T070000Z
DTEND;VALUE=DATE-TIME:20260423T083000Z
UID:200779295129
DESCRIPTION: 題目：　 臨床研究の歴史と被験者保護     
 臨床研究における研究不正と行動規範     臨床研究実
 施で考慮すべき倫理関連事項　　　　　Title：   History
  of clinical research and protection of researchsubjects/Research miscondu
 ct and a code of conduct Introduction to meta-analysis/ Ethical considera
 tionsin performing clinical researchIntroduction to Clinical Study Methodo
 logy    講師：西脇聡史（先端医療開発部） TeachingStaf
 f : Lecturer at Nagoya University Satoshi Nishiwaki  ※臨床研究
 認定者制度の認定要件の一つである先端医療・臨床研
 究支援センターが指定する講習会として実施されます
 。 日時：2026年4月23日（木）16:00～17:30 (Microsoft Teams)Time 
 and Date: 16:00～17:30  Apr.23\,2026言語：日本語　 Language:Japa
 nese.  ※関係講座等の連絡先: 先端医療支援係（内線 752
 4）Contact : #7524 Support for Advanced Medicine   
LOCATION:※Teams開催※
END:VEVENT
END:VCALENDAR
