BEGIN:VCALENDAR
VERSION:2.0
PRODID:-//chikkutakku.com//RDFCal 1.0//EN
X-WR-CALDESC:GoogleカレンダーやiCalendar形式情報を共有シェ
 アしましょう。近所のイベントから全国のイベントま
 で今日のイベント検索やスケジュールを決めるならち
 っくたっく
X-WR-CALNAME:ちっくたっく
X-WR-TIMEZONE:UTC
BEGIN:VEVENT
SUMMARY:曙松鉄道運転日
DTSTART;VALUE=DATE-TIME:20260425T113000Z
DTEND;VALUE=DATE-TIME:20260425T152000Z
UID:200787630279
DESCRIPTION:【イベント主催者】\n　frou01\n【イベント内容
 】\n　曙松鉄道にて4本の列車が運転いたします。\n大正
 モダン、昭和レトロな客車に、昔ながらのタブレット
 閉塞で、在りし日の鉄道旅を体験いただけます。\n皆様
 のご乗車をお待ちしております。\n【イベントジャンル
 】\n　ロールプレイ\n【参加条件（モデル、人数制限な
 ど）】\n　インスタンス最大人数は50人\n\nポリゴン数を
 除いてPoorまでのアバターを推奨します\n【参加方法】\n
 　Groupに参加\nhttps://vrchat.com/home/group/grp_e37d8fac-2075-44ca-91
 b0-ede77b60c15c\nもしくは参加中のフレンドに合流\n【備考
 】\n　実際に走行する車両に乗車することとなります。
 乗り物・VR酔にはご注意ください。\nHMDのリフレッシュ
 レートを高く設定していると大きな負荷がかかる場合
 があります。\nワールド全体に干渉するアバター・極端
 に負荷の大きいアバターの使用はお控えください。\nコ
 ライダーを用いた飛行ないし高速移動を行う機能を含
 むアバターの使用は、列車の脱線等の原因となります
 ので持ち込みを厳禁とします。
LOCATION:
END:VEVENT
END:VCALENDAR
