BEGIN:VCALENDAR
VERSION:2.0
PRODID:-//chikkutakku.com//RDFCal 1.0//EN
X-WR-CALDESC:GoogleカレンダーやiCalendar形式情報を共有シェ
 アしましょう。近所のイベントから全国のイベントま
 で今日のイベント検索やスケジュールを決めるならち
 っくたっく
X-WR-CALNAME:ちっくたっく
X-WR-TIMEZONE:UTC
BEGIN:VEVENT
SUMMARY:第19巻 医療倫理教育
DTSTART;VALUE=DATE:20260520
DTEND;VALUE=DATE:20260521
UID:201126094281
DESCRIPTION:2026-05-21第19巻 医療倫理教育シリーズ生命倫理
 学編集委員会/伴 信太郎/藤野 昭宏丸善出版
LOCATION:
END:VEVENT
END:VCALENDAR
