BEGIN:VCALENDAR
VERSION:2.0
PRODID:-//chikkutakku.com//RDFCal 1.0//EN
X-WR-CALDESC:GoogleカレンダーやiCalendar形式情報を共有シェ
 アしましょう。近所のイベントから全国のイベントま
 で今日のイベント検索やスケジュールを決めるならち
 っくたっく
X-WR-CALNAME:ちっくたっく
X-WR-TIMEZONE:UTC
BEGIN:VEVENT
SUMMARY:【社団】新ペンギンひかり勉強会（申し込み編）
DTSTART;VALUE=DATE-TIME:20260507T100000Z
DTEND;VALUE=DATE-TIME:20260507T110000Z
UID:201187057256
DESCRIPTION:ペンギンひかりに関する研修です。申し込み
 編※商品知識編とは異なります。※ルーター選び＆ト
 ラブル対処編とは異なります。https://us02web.zoom.us/j/810587
 39913?pwd=7IHrazRKobcPshp8RU9bmwya7ael2h.1ウェビナーID：810 5873 991
 3パスワード：111111
LOCATION:
END:VEVENT
END:VCALENDAR
