BEGIN:VCALENDAR
VERSION:2.0
PRODID:-//chikkutakku.com//RDFCal 1.0//EN
X-WR-CALDESC:GoogleカレンダーやiCalendar形式情報を共有シェ
 アしましょう。近所のイベントから全国のイベントま
 で今日のイベント検索やスケジュールを決めるならち
 っくたっく
X-WR-CALNAME:ちっくたっく
X-WR-TIMEZONE:UTC
BEGIN:VEVENT
SUMMARY:Method Zero ―現職が教える演技論―
DTSTART;VALUE=DATE-TIME:20260425T120000Z
DTEND;VALUE=DATE-TIME:20260425T140000Z
UID:201408274953
DESCRIPTION:【イベント主催者】\n　れみ～！\n【イベント
 内容】\n　VRChat演技ワークショップ「Method Zero（メゼロ
 ）」― あなたの人生は、最高の台本だ。―\n\n【コンセ
 プト】\n「その演技を、感覚で終わらせない。」\n演技
 は「才能」や「センス」だけで決まるものではありま
 せん。\n台本に書かれた文字の裏側をどう読み解き、ど
 う自分自身の血を通わせるか。そこには、明確な「設
 計図」が存在します。\n\n「Method Zero」は、芸能界・演
 劇界で15年以上のキャリアを積み、数々のプロの現場（
 声優・俳優・映画監督）を経験してきた「れみ〜！ 」
 が、その現場感覚を徹底的に言語化して伝授するワー
 クショップです。\n\n【このワークショップの核：トラ
 ウマの応用】\n私たちが生きてきた中で経験した、忘れ
 られない記憶や痛み。\nそれらは決して「負の遺産」で
 はありません。役を構築する上で、これ以上ないほど
 強力な「最高の素材」になります。\n自分の経験をどの
 ように役にスライドさせ、嘘のないリアリティへと昇
 華させるのか。15年のキャリアが辿り着いた「経験を武
 器に変えるロジック」を共有します。\n\n【こんな方に
 おすすめ】\n• 初心者の方：演技に興味はあるけれど
 、何から始めていいか分からない。\n• RP（ロールプレ
 イ）勢の方：自分のキャラクターに、より深い説得力
 や人間味を持たせたい。\n• プロ・中級者の方：感覚
 で行っていた演技を言語化し、再現性の高い技術とし
 て定着させたい。\n• 表現の仲間が欲しい方：技術を
 磨き合い、フラットに語り合える繋がりを作りたい。\n
 \n【当日のプログラム（予定）】\n第1部：プロの「読み
 込み」講義\n台本の解体方法と、キャラクターの「欠落
 」を埋めるロジックについて。\n\n第2部：実践ワーク\n
 自身の記憶や感情を、役のエネルギーへ変換する「置
 換技術」の解説。\n\n第3部：交流ラウンジ\nレッスン後
 は、レベルの垣根を超えて表現について語り合う交流
 タイムを設けます。\n\n【開催概要】\n• 開催日：2026年
 4月25日（土）\n• 時間：21:00 開始 終了時刻は表記23時
 となっていますが、途中退出・見学ありで未定です。\n
 • 講師：れみ〜！\n• ハッシュタグ：#メゼロ\n\n【主
 催者「れみ〜！」より】\n「あなたの人生は、最高の台
 本だ。」\nあなたが歩んできた道、感じてきた感情のす
 べてが、表現者としての唯一無二の武器になります。\n
 怖がる必要はありません。プロの現場で培った技術を
 、誰にでもわかる言葉で、大切にお伝えします。\nVRChat
 という自由な空間で、新しい自分と、新しい仲間に出
 会えることを楽しみにしています。\n【イベントジャン
 ル】\n　その他交流会\, ロールプレイ\n【参加条件（モ
 デル、人数制限など）】\n　今回「こえれん！声をきた
 えるところ。」様のグループ及びグループインスタン
 スをお借りしての開催になるので、\n\n・グループ「こ
 えれん！声をきたえるところ。」に加入している\n\nあ
 と\n\nアバターダウンロード容量50MB以下\n見る人の邪魔
 にならない程度のものであればなんでも〇\n\n演技に興
 味がある方、普通に他興味で見学する方誰でも大歓迎
 です。\n【参加方法】\n　上記の通り、今回は「こえれ
 ん！声をきたえるところ。」様のグループをお借りし
 て開催するので、\n\n・グループ「こえれん！声をきた
 えるところ。」に加入する\n・そのままグループインス
 タンスへ参加した後、インスタンス内の「第一劇場」
 にお越しください\n【備考】\n　好評であれば専用グル
 ープも作ります...👀
LOCATION:
END:VEVENT
END:VCALENDAR
