BEGIN:VCALENDAR
VERSION:2.0
PRODID:-//chikkutakku.com//RDFCal 1.0//EN
X-WR-CALDESC:GoogleカレンダーやiCalendar形式情報を共有シェ
 アしましょう。近所のイベントから全国のイベントま
 で今日のイベント検索やスケジュールを決めるならち
 っくたっく
X-WR-CALNAME:ちっくたっく
X-WR-TIMEZONE:UTC
BEGIN:VEVENT
SUMMARY:▶▶▶【コラボ営業】Vitrtual Rendez-Vous Lounge × Bar R
 u-Kor-Kamuy」◀◀◀
DTSTART;VALUE=DATE-TIME:20260422T141000Z
DTEND;VALUE=DATE-TIME:20260422T145900Z
UID:202605364185
DESCRIPTION:【イベント主催者】\n　ろぉぉぉ、スノーエン
 ジェル松本\n【イベント内容】\n　ライブを見ながら雑
 談するイベントです。\n今回はRu-Kor-KamuyのキャストがVit
 rtual Rendez-Vous Loungeにお邪魔いたします！\nなお、RKKのキ
 ャストは第二部（23:10-）からの参加となります。\n\n23:0
 5　営業開始\n24:00　集合写真\n【イベントジャンル】\n
 　その他交流会\, VR飲み会\, 店舗系イベント\, 初心者向
 けイベント\, 定期イベント\n【参加条件（モデル、人数
 制限など）】\n　アバターサイズ100MB以下\n必要に応じ
 てアバターカリングなどによる重さ対策\n【参加方法】
 \n　グループオンリーにて開催\nグループ検索から「http
 s://vrc.group/VRV.9232」で検索\n【備考】\n　
LOCATION:
END:VEVENT
END:VCALENDAR
