BEGIN:VCALENDAR
VERSION:2.0
PRODID:-//chikkutakku.com//RDFCal 1.0//EN
X-WR-CALDESC:GoogleカレンダーやiCalendar形式情報を共有シェ
 アしましょう。近所のイベントから全国のイベントま
 で今日のイベント検索やスケジュールを決めるならち
 っくたっく
X-WR-CALNAME:ちっくたっく
X-WR-TIMEZONE:UTC
BEGIN:VEVENT
SUMMARY:Swimming Lessons (Years 1-6)
DTSTART;VALUE=DATE:20260427
DTEND;VALUE=DATE:20260501
UID:202929604664
DESCRIPTION:Swimming Lessons (Years 1-6)
LOCATION:Graham Condon Recreation and Sport Centre\, 3 Sisson Drive\, Papa
 nui\, Christchurch 8053\, New Zealand
END:VEVENT
END:VCALENDAR
