BEGIN:VCALENDAR
VERSION:2.0
PRODID:-//chikkutakku.com//RDFCal 1.0//EN
X-WR-CALDESC:GoogleカレンダーやiCalendar形式情報を共有シェ
 アしましょう。近所のイベントから全国のイベントま
 で今日のイベント検索やスケジュールを決めるならち
 っくたっく
X-WR-CALNAME:ちっくたっく
X-WR-TIMEZONE:UTC
BEGIN:VEVENT
SUMMARY:第３回GBAアバター集会
DTSTART;VALUE=DATE-TIME:20260424T120000Z
DTEND;VALUE=DATE-TIME:20260424T130000Z
UID:203344249498
DESCRIPTION:【イベント主催者】\n　GBAアバター集会（@GBAME
 ETING）\n【イベント内容】\n　GBAアバター集会\n【イベン
 トジャンル】\n　改変アバター交流会\n【参加条件（モ
 デル、人数制限など）】\n　GBAのアバターを所持してい
 る方、GBAアバターに興味のある方大歓迎！\nワールドに
 サンプルあります！\n【参加方法】\n　group+で開催しま
 すのでGROUP　ID :VOLGA.0957　にご参加よろしくお願いしま
 す。\n【備考】\n　・配信及び動画撮影は禁止とさせて
 頂いております\n・キメラアバターでのご参加は禁止と
 させていただいております。（アフターかいじょうで
 は　キメラアバターに規制はございません。
LOCATION:
END:VEVENT
END:VCALENDAR
