BEGIN:VCALENDAR
VERSION:2.0
PRODID:-//chikkutakku.com//RDFCal 1.0//EN
X-WR-CALDESC:GoogleカレンダーやiCalendar形式情報を共有シェ
 アしましょう。近所のイベントから全国のイベントま
 で今日のイベント検索やスケジュールを決めるならち
 っくたっく
X-WR-CALNAME:ちっくたっく
X-WR-TIMEZONE:UTC
BEGIN:VEVENT
SUMMARY:Chu Bar
DTSTART;VALUE=DATE:20260512
DTEND;VALUE=DATE:20260513
UID:203436485136
DESCRIPTION:19:00～24:00\nNO CHARGE\nculture×alcohol
LOCATION:
END:VEVENT
END:VCALENDAR
