BEGIN:VCALENDAR
VERSION:2.0
PRODID:-//chikkutakku.com//RDFCal 1.0//EN
X-WR-CALDESC:GoogleカレンダーやiCalendar形式情報を共有シェ
 アしましょう。近所のイベントから全国のイベントま
 で今日のイベント検索やスケジュールを決めるならち
 っくたっく
X-WR-CALNAME:ちっくたっく
X-WR-TIMEZONE:UTC
BEGIN:VEVENT
SUMMARY:【注】姫様“拷問”の時間です #1  / #2  / #3  / #4  /
  #5  / #6  / #7  / #8  / #9  / #10  / #11  / #12 
DTSTART;VALUE=DATE-TIME:20260421T180000Z
DTEND;VALUE=DATE-TIME:20260422T000000Z
UID:203583480419
DESCRIPTION: / #1  / #2  / #3  / #4  / #5  / #6  / #7  / #8  / #9  / #10  
 / #11  / #12  / https://abema.tv/channels/abema-anime-2/slots/AkN7YEVi7zWa
 w9 リピート放送は 4/22(水) 15:00～ https://abema.tv/channels/abem
 a-anime-2/slots/AkN7WQPowKp8Ky (無料TS1週間)
LOCATION:Abemaアニメ2
END:VEVENT
END:VCALENDAR
