BEGIN:VCALENDAR
VERSION:2.0
PRODID:-//chikkutakku.com//RDFCal 1.0//EN
X-WR-CALDESC:GoogleカレンダーやiCalendar形式情報を共有シェ
 アしましょう。近所のイベントから全国のイベントま
 で今日のイベント検索やスケジュールを決めるならち
 っくたっく
X-WR-CALNAME:ちっくたっく
X-WR-TIMEZONE:UTC
BEGIN:VEVENT
SUMMARY:こめかみっ！Girls #3 「門司港名物焼きカレー」
DTSTART;VALUE=DATE-TIME:20260421T160000Z
DTEND;VALUE=DATE-TIME:20260421T163000Z
UID:203676019109
DESCRIPTION:3 / 門司港名物焼きカレー / 
LOCATION:BS11イレブン
END:VEVENT
END:VCALENDAR
