BEGIN:VCALENDAR
VERSION:2.0
PRODID:-//chikkutakku.com//RDFCal 1.0//EN
X-WR-CALDESC:GoogleカレンダーやiCalendar形式情報を共有シェ
 アしましょう。近所のイベントから全国のイベントま
 で今日のイベント検索やスケジュールを決めるならち
 っくたっく
X-WR-CALNAME:ちっくたっく
X-WR-TIMEZONE:UTC
BEGIN:VEVENT
SUMMARY:キャバクライベント【Elmeira~イルメア~】BAR
DTSTART;VALUE=DATE-TIME:20260428T131000Z
DTEND;VALUE=DATE-TIME:20260428T142000Z
UID:203700654027
DESCRIPTION:【イベント主催者】\n　り り ー\n【イベント
 内容】\n　～泡沫の夜に、恋をして～\n\n女性のみで構
 成された本格的キャバクライベント Elmeira BARです！\n本
 営業とは異なり、アフターのようにキャストとお話で
 きるBARイベントです。\n特別な時間をどうぞお過ごしく
 ださい。\n\n◆開催時間 22:10～23:15\n22:10　グループ＋イ
 ンスタンス設営\n23:15　集合写真撮影、解散\n【イベン
 トジャンル】\n　店舗系イベント\, ロールプレイ\, 初心
 者向けイベント\n【参加条件（モデル、人数制限など）
 】\n　・日本語話者（無言勢可）\n・キャストへのフレ
 ンド申請\n・お客様からキャストへの接触・不快に感じ
 る行動\n・Quest単機不可\n・40MB以下のアバターでの参加\
 n・迷惑行為の禁止\n・無許可の動画撮影、配信の禁止\n
 【参加方法】\n　Elmeiraグループに参加\nhttps://vrchat.com/ho
 me/group/grp_29c91ae7-09aa-4fda-adcd-50561f3a3dfb\n22:10 グループ＋
 インスタンスにJoin\n【備考】\n　最新情報は公式X（@VRC_
 Elmeira）にてお知らせしております！\nXタグ #VRC_Elmeira
LOCATION:
END:VEVENT
END:VCALENDAR
