BEGIN:VCALENDAR
VERSION:2.0
PRODID:-//chikkutakku.com//RDFCal 1.0//EN
X-WR-CALDESC:GoogleカレンダーやiCalendar形式情報を共有シェ
 アしましょう。近所のイベントから全国のイベントま
 で今日のイベント検索やスケジュールを決めるならち
 っくたっく
X-WR-CALNAME:ちっくたっく
X-WR-TIMEZONE:UTC
BEGIN:VEVENT
SUMMARY:Greene to Oxford - 30 miles
DTSTART;VALUE=DATE-TIME:20260516T160000Z
DTEND;VALUE=DATE-TIME:20260516T190000Z
UID:204189964055
DESCRIPTION:Ride description\n\nA 30 mile ride between Greene and Oxford a
 long beautiful quiet farm road Rt 32 - an official NY cycling road\, with 
 a few miles on Rt 12 outta Oxford.\n\n\nRoute:\n\nhttps://ridewithgps.com/
 routes/39356798\n\nMeet at:\n\nTractor Supply Co\, Greene NY\n\nPark in th
 e lot area in front of the closed Great American store\n\nRide start:  12 
 noon\n\nRide leader:\n\nRegina Losinger 222-8235\n\n\nDistance: 30 miles\n
 \nPace: \n\n~13 mph pace is planned \n\nOther paces are welcome to come a
 nd ride with like minded cyclists\n\nTerrain: \n\nLotsa flat and gentle ro
 llers with a few short manageable climbs of 3-6%\n\nSnack stop: \n\nOxford
  town square \n\nOr stop by nearby restaurants\, and return with your lunc
 hmates
LOCATION:Tractor Supply Co.\, 154 S Chenango St\, Greene\, NY 13778\, USA
END:VEVENT
END:VCALENDAR
