BEGIN:VCALENDAR
VERSION:2.0
PRODID:-//chikkutakku.com//RDFCal 1.0//EN
X-WR-CALDESC:GoogleカレンダーやiCalendar形式情報を共有シェ
 アしましょう。近所のイベントから全国のイベントま
 で今日のイベント検索やスケジュールを決めるならち
 っくたっく
X-WR-CALNAME:ちっくたっく
X-WR-TIMEZONE:UTC
BEGIN:VEVENT
SUMMARY:呪術廻戦 10 死滅回游3東京第2結界ー桜島結界
DTSTART;VALUE=DATE:20260521
DTEND;VALUE=DATE:20260522
UID:204697988353
DESCRIPTION:2026-05-22呪術廻戦 10 死滅回游3東京第2結界ー桜
 島結界芥見 下々集英社
LOCATION:
END:VEVENT
END:VCALENDAR
