BEGIN:VCALENDAR
VERSION:2.0
PRODID:-//chikkutakku.com//RDFCal 1.0//EN
X-WR-CALDESC:GoogleカレンダーやiCalendar形式情報を共有シェ
 アしましょう。近所のイベントから全国のイベントま
 で今日のイベント検索やスケジュールを決めるならち
 っくたっく
X-WR-CALNAME:ちっくたっく
X-WR-TIMEZONE:UTC
BEGIN:VEVENT
SUMMARY:Open Day Tours 9.15am & 10.15am
DTSTART;VALUE=DATE:20260504
DTEND;VALUE=DATE:20260505
UID:204929075264
DESCRIPTION:Open Day Tours 9.15am & 10.15am
LOCATION:
END:VEVENT
END:VCALENDAR
