BEGIN:VCALENDAR
VERSION:2.0
PRODID:-//chikkutakku.com//RDFCal 1.0//EN
X-WR-CALDESC:GoogleカレンダーやiCalendar形式情報を共有シェ
 アしましょう。近所のイベントから全国のイベントま
 で今日のイベント検索やスケジュールを決めるならち
 っくたっく
X-WR-CALNAME:ちっくたっく
X-WR-TIMEZONE:UTC
BEGIN:VEVENT
SUMMARY:［満員御礼］　ラウンドレッスン　担当：野崎
DTSTART;VALUE=DATE:20260427
DTEND;VALUE=DATE:20260428
UID:204987619775
DESCRIPTION:定員３名です。   ４月８日現在、申込み３名
 様。   満員御礼です。
LOCATION:思い川ゴルフ倶楽部\, 日本、〒322-0344 栃木県鹿
 沼市西沢町１８０５−１
END:VEVENT
END:VCALENDAR
