BEGIN:VCALENDAR
VERSION:2.0
PRODID:-//chikkutakku.com//RDFCal 1.0//EN
X-WR-CALDESC:GoogleカレンダーやiCalendar形式情報を共有シェ
 アしましょう。近所のイベントから全国のイベントま
 で今日のイベント検索やスケジュールを決めるならち
 っくたっく
X-WR-CALNAME:ちっくたっく
X-WR-TIMEZONE:UTC
BEGIN:VEVENT
SUMMARY:【購入特典】『ひとりぼっちの異世界攻略　life.1
 8　因習の彼方に』BOOK☆WALKER限定書き下ろしショートス
 トーリー
DTSTART;VALUE=DATE:20260419
DTEND;VALUE=DATE:20260420
UID:205077916981
DESCRIPTION:2026-04-20【購入特典】『ひとりぼっちの異世界
 攻略　life.18　因習の彼方に』BOOK☆WALKER限定書き下ろし
 ショートストーリー五示正司/榎丸さくオーバーラップ
LOCATION:
END:VEVENT
END:VCALENDAR
