BEGIN:VCALENDAR
VERSION:2.0
PRODID:-//chikkutakku.com//RDFCal 1.0//EN
X-WR-CALDESC:GoogleカレンダーやiCalendar形式情報を共有シェ
 アしましょう。近所のイベントから全国のイベントま
 で今日のイベント検索やスケジュールを決めるならち
 っくたっく
X-WR-CALNAME:ちっくたっく
X-WR-TIMEZONE:UTC
BEGIN:VEVENT
SUMMARY:I love 人生！（宮本浩次）
DTSTART;VALUE=DATE:20260420
DTEND;VALUE=DATE:20260421
UID:205349866673
DESCRIPTION:start 22:00\n新曲配信開始。詳しくは関連URLをご
 確認ください。\n\n【関連/参考ページ】\nhttps://hirojimiyam
 oto.lnk.to/i_love_jinsei
LOCATION:
END:VEVENT
END:VCALENDAR
