BEGIN:VCALENDAR
VERSION:2.0
PRODID:-//chikkutakku.com//RDFCal 1.0//EN
X-WR-CALDESC:GoogleカレンダーやiCalendar形式情報を共有シェ
 アしましょう。近所のイベントから全国のイベントま
 で今日のイベント検索やスケジュールを決めるならち
 っくたっく
X-WR-CALNAME:ちっくたっく
X-WR-TIMEZONE:UTC
BEGIN:VEVENT
SUMMARY:●鉄道アドベンチャー[再] 4/25(土)2:30-3:00 BS12 トゥ
 エルビ(Ch.222)
DTSTART;VALUE=DATE-TIME:20260424T173000Z
DTEND;VALUE=DATE-TIME:20260424T180000Z
UID:206855931912
DESCRIPTION:●鉄道アドベンチャー[再]\n4/25(土)2:30-3:00 BS12 
 トゥエルビ(Ch.222)\n＃３ 和歌山県・紀州鉄道「日本一短
 いローカル私鉄」\n今回は和歌山県御坊市を走る紀州鉄
 道。長さ2.ｋｍ。日本一短いローカル私鉄です。乗客は
 ナイジェリア出身のレニー。一両編成のディーゼル車
 両に乗り込み、その短さを体感。途中駅には、それぞ
 れ面白いエピソードが。さらに、御坊のソウルフード
 「せち焼き」の店、寺内町の和菓子店、駅の横にある
 鮮魚店で、地元の味をリポート。店主たちの紀州鉄道
 への思いとは。短い路線に魅力が凝縮されたローカル
 私鉄の旅です。\nhttps://www.twellv.co.jp/program/tabi/tetsudo-adven
 ture/
LOCATION:
END:VEVENT
END:VCALENDAR
