BEGIN:VCALENDAR
VERSION:2.0
PRODID:-//chikkutakku.com//RDFCal 1.0//EN
X-WR-CALDESC:GoogleカレンダーやiCalendar形式情報を共有シェ
 アしましょう。近所のイベントから全国のイベントま
 で今日のイベント検索やスケジュールを決めるならち
 っくたっく
X-WR-CALNAME:ちっくたっく
X-WR-TIMEZONE:UTC
BEGIN:VEVENT
SUMMARY:【Android オンリー】BAR Nekomanma
DTSTART;VALUE=DATE-TIME:20260425T130000Z
DTEND;VALUE=DATE-TIME:20260425T145900Z
UID:207043311394
DESCRIPTION:【イベント主催者】\n　猫丸レンレン\n【イベ
 ント内容】\n　クエストユーザーによるクエストユーザ
 ーのためのクエストオンリーのBARイベント \n【イベン
 トジャンル】\n　改変アバター交流会\, 店舗系イベント
 \, 初心者向けイベント\, 定期イベント\n【参加条件（モ
 デル、人数制限など）】\n　クエスト単騎で参加してね
 ー グループ＋にて開催します〜！ \n【参加方法】\n　22
 :00になったらグループ＋にてjoinしてください！ ただし
 グループに入るためには申請が必要なのでご参加の予
 定の方は先にグループの程よろしくお願いします↓ http
 s://vrc.group/MANMA.2796\n\n【備考】\n　
LOCATION:
END:VEVENT
END:VCALENDAR
