BEGIN:VCALENDAR
VERSION:2.0
PRODID:-//chikkutakku.com//RDFCal 1.0//EN
X-WR-CALDESC:GoogleカレンダーやiCalendar形式情報を共有シェ
 アしましょう。近所のイベントから全国のイベントま
 で今日のイベント検索やスケジュールを決めるならち
 っくたっく
X-WR-CALNAME:ちっくたっく
X-WR-TIMEZONE:UTC
BEGIN:VEVENT
SUMMARY:メイドなら当然です。 〜万能メイド、濡れ衣か
 ぶって旅に出る。〜（7）
DTSTART;VALUE=DATE:20260512
DTEND;VALUE=DATE:20260513
UID:207096733156
DESCRIPTION:2026-05-13メイドなら当然です。 〜万能メイド、
 濡れ衣かぶって旅に出る。〜（7）熊谷綾人/三上康明/
 キンタ株式会社アース・スター エンターテイメント
LOCATION:
END:VEVENT
END:VCALENDAR
