BEGIN:VCALENDAR
VERSION:2.0
PRODID:-//chikkutakku.com//RDFCal 1.0//EN
X-WR-CALDESC:GoogleカレンダーやiCalendar形式情報を共有シェ
 アしましょう。近所のイベントから全国のイベントま
 で今日のイベント検索やスケジュールを決めるならち
 っくたっく
X-WR-CALNAME:ちっくたっく
X-WR-TIMEZONE:UTC
BEGIN:VEVENT
SUMMARY:【Android 対応】マダミス喫茶「MM cafe」
DTSTART;VALUE=DATE-TIME:20260421T140000Z
DTEND;VALUE=DATE-TIME:20260421T145900Z
UID:207592008022
DESCRIPTION:【イベント主催者】\n　ぱたぽんぽ\n【イベン
 ト内容】\n　マーダーミステリーが好きな人や気になっ
 てる人が雑談で集まる喫茶店です。\nGMとPLをマッチン
 グする場としてもご活用していただけたら嬉しいです
 。\n初心者でやりたいけど話だけ聞きたい人なども大歓
 迎です！\n【イベントジャンル】\n　その他交流会\n【
 参加条件（モデル、人数制限など）】\n　常識ある人\n
 【参加方法】\n　グループ+インスタンスを開きます。
 どちらかでjoin\n①https://vrc.group/MURDER.6681に参加してjoin\n
 ②ぱたぽんぽにフレンド申請してjoin\n【備考】\n　お店
 に入りましたら入り口のルールをきちんと読んだ上で
 お入りください。
LOCATION:
END:VEVENT
END:VCALENDAR
