BEGIN:VCALENDAR
VERSION:2.0
PRODID:-//chikkutakku.com//RDFCal 1.0//EN
X-WR-CALDESC:GoogleカレンダーやiCalendar形式情報を共有シェ
 アしましょう。近所のイベントから全国のイベントま
 で今日のイベント検索やスケジュールを決めるならち
 っくたっく
X-WR-CALNAME:ちっくたっく
X-WR-TIMEZONE:UTC
BEGIN:VEVENT
SUMMARY:吉弥の会＠朝日上方落語
DTSTART;VALUE=DATE-TIME:20260426T050000Z
DTEND;VALUE=DATE-TIME:20260426T070000Z
UID:207932292570
DESCRIPTION:http://cclive.ikora.tv/e1598604.html
LOCATION:海南ノビノス　　 海南市日方１５２５−６
END:VEVENT
END:VCALENDAR
