BEGIN:VCALENDAR
VERSION:2.0
PRODID:-//chikkutakku.com//RDFCal 1.0//EN
X-WR-CALDESC:GoogleカレンダーやiCalendar形式情報を共有シェ
 アしましょう。近所のイベントから全国のイベントま
 で今日のイベント検索やスケジュールを決めるならち
 っくたっく
X-WR-CALNAME:ちっくたっく
X-WR-TIMEZONE:UTC
BEGIN:VEVENT
SUMMARY:自称悪役令嬢な婚約者の観察記録。 #5
DTSTART;VALUE=DATE-TIME:20260504T130000Z
DTEND;VALUE=DATE-TIME:20260504T133000Z
UID:208636471606
DESCRIPTION:5 /  / 
LOCATION:TOKYO MX
END:VEVENT
END:VCALENDAR
