BEGIN:VCALENDAR
VERSION:2.0
PRODID:-//chikkutakku.com//RDFCal 1.0//EN
X-WR-CALDESC:GoogleカレンダーやiCalendar形式情報を共有シェ
 アしましょう。近所のイベントから全国のイベントま
 で今日のイベント検索やスケジュールを決めるならち
 っくたっく
X-WR-CALNAME:ちっくたっく
X-WR-TIMEZONE:UTC
BEGIN:VEVENT
SUMMARY:福島分会PC15台
DTSTART;VALUE=DATE:20260423
DTEND;VALUE=DATE:20260430
UID:209025015934
DESCRIPTION:【Civil3D 267の技】、【Revit入門】を購入希望の
 方がいらっしゃいます。　どなたに準備をお願いした
 らよろしいでしょうか。※各2冊づつ
LOCATION:
END:VEVENT
END:VCALENDAR
